PDS_VERSION_ID = PDS3
RECORD_TYPE = FIXED_LENGTH
RECORD_BYTES = 6840
FILE_RECORDS = 5321
DATA_SET_ID = "LRO-L-LROC-5-RDR-V1.0"
DATA_SET_NAME = "LRO MOON LROC 5 RDR V1.0"
VOLUME_ID = "LROLRC_2001"
PRODUCER_INSTITUTE_NAME = "ARIZONA STATE UNIVERSITY"
PRODUCER_ID = LRO_LROC_TEAM
PRODUCER_FULL_NAME = "MARK ROBINSON, PH.D"
PRODUCT_ID = "WAC_HAPKE_3BAND_E350N3150"
PRODUCT_VERSION_ID = "v1.2"
PRODUCT_TYPE = RDR
INSTRUMENT_HOST_NAME = "LUNAR RECONNAISSANCE ORBITER"
INSTRUMENT_HOST_ID = "LRO"
INSTRUMENT_NAME = "LUNAR RECONNAISSANCE ORBITER CAMERA"
INSTRUMENT_ID = "LROC"
TARGET_NAME = "MOON"
MISSION_PHASE_NAME = "NOMINAL MISSION, SCIENCE MISSION, EXTENDED SCIENCE MISSION"
RATIONALE_DESC = "Created to enable lunar science and exploration activities"
SOFTWARE_NAME = "ISIS 3.8.1, 3.4.6.5819 with SER Enhancements"
SPACECRAFT_CLOCK_START_COUNT = "N/A"
SPACECRAFT_CLOCK_STOP_COUNT = "N/A"
PRODUCT_CREATION_TIME = 2020-10-10T05:22:57
^IMAGE = ("WAC_HAPKE_3BAND_E350N3150.TIF", 109210334 )
OBJECT = IMAGE_MAP_PROJECTION
  ^DATA_SET_MAP_PROJECTION = "DSMAP.CAT"
  MAP_PROJECTION_TYPE = "EQUIRECTANGULAR"
  PROJECTION_LATITUDE_TYPE = PLANETOCENTRIC
  A_AXIS_RADIUS = 1737.4
  B_AXIS_RADIUS = 1737.4
  C_AXIS_RADIUS = 1737.4
  COORDINATE_SYSTEM_NAME = PLANETOCENTRIC
  POSITIVE_LONGITUDE_DIRECTION = EAST
  KEYWORD_LATITUDE_TYPE = PLANETOCENTRIC
  CENTER_LATITUDE = 0.0
  CENTER_LONGITUDE = 0.0
  LINE_FIRST_PIXEL = 1
  LINE_LAST_PIXEL = 5321
  SAMPLE_FIRST_PIXEL = 1
  SAMPLE_LAST_PIXEL = 6840
  MAP_PROJECTION_ROTATION = 0.0
  MAP_RESOLUTION = 76.000000000064
  MAP_SCALE = 398.991452949
  MAXIMUM_LATITUDE = 70.0131579
  MINIMUM_LATITUDE = -0.0
  EASTERNMOST_LONGITUDE = -0.0
  WESTERNMOST_LONGITUDE = 270.0
  LINE_PROJECTION_OFFSET = 5320.4999999999
  SAMPLE_PROJECTION_OFFSET = -20520.5
END_OBJECT = IMAGE_MAP_PROJECTION
OBJECT = IMAGE
  DESCRIPTION = "WAC 3-band 8-bit per band RGB (R=689 nm, G=415 nm, and B=321 nm) median mosaic at 400 m/px photometrically normalized to i=g=60 deg, e=0 deg by Hapke parameter maps in Equirectangular projection centered at 0,0 with a radius of 1737400 m. The center of this tile is at 35.0N, 315.0E. For more information see [SATOETAL2017]."
  INTERCHANGE_FORMAT = BINARY
  LINES = 5321
  LINE_SAMPLES = 6840
  SAMPLE_TYPE = MSB_UNSIGNED_INTEGER
  SAMPLE_BITS = 8
  BAND_STORAGE_TYPE = SAMPLE_INTERLEAVED
  BANDS = 3
  FILTER_NAME = "321, 415, 689"
END_OBJECT = IMAGE
END
