PDS_VERSION_ID = PDS3
RECORD_TYPE = FIXED_LENGTH
RECORD_BYTES = 10872
FILE_RECORDS = 8085
DATA_SET_ID = "LRO-L-LROC-5-RDR-V1.0"
DATA_SET_NAME = "LRO MOON LROC 5 RDR V1.0"
VOLUME_ID = "LROLRC_2001"
PRODUCER_INSTITUTE_NAME = "ARIZONA STATE UNIVERSITY"
PRODUCER_ID = LRO_LROC_TEAM
PRODUCER_FULL_NAME = "MARK ROBINSON, PH.D"
PRODUCT_ID = "NAC_DTM_DORSUMNICOL"
PRODUCT_VERSION_ID = "v1.9"
PRODUCT_TYPE = RDR
INSTRUMENT_HOST_NAME = "LUNAR RECONNAISSANCE ORBITER"
INSTRUMENT_HOST_ID = "LRO"
INSTRUMENT_NAME = "LUNAR RECONNAISSANCE ORBITER CAMERA"
INSTRUMENT_ID = "LROC"
TARGET_NAME = "MOON"
MISSION_PHASE_NAME = "EXTENDED SCIENCE MISSION"
RATIONALE_DESC = "Created to enable lunar science and exploration activities"
SOFTWARE_NAME = "ISIS 3.8.1, 3.4.4.5390 with SER enhancements | SOCET SET v5.5 (c) BAE Systems | GDAL"
START_TIME = 2012-10-25T03:11:20
STOP_TIME = 2012-10-25T05:10:50
SPACECRAFT_CLOCK_START_COUNT = "N/A"
SPACECRAFT_CLOCK_STOP_COUNT = "N/A"
PRODUCT_CREATION_TIME = 2020-10-10T05:36:44
^IMAGE = ("NAC_DTM_DORSUMNICOL.TIF", 65352 )
OBJECT = IMAGE_MAP_PROJECTION
  ^DATA_SET_MAP_PROJECTION = "DSMAP.CAT"
  MAP_PROJECTION_TYPE = "EQUIRECTANGULAR"
  PROJECTION_LATITUDE_TYPE = PLANETOCENTRIC
  A_AXIS_RADIUS = 1737.4
  B_AXIS_RADIUS = 1737.4
  C_AXIS_RADIUS = 1737.4
  COORDINATE_SYSTEM_NAME = PLANETOCENTRIC
  POSITIVE_LONGITUDE_DIRECTION = EAST
  KEYWORD_LATITUDE_TYPE = PLANETOCENTRIC
  CENTER_LATITUDE = 18.0
  CENTER_LONGITUDE = 180.0
  LINE_FIRST_PIXEL = 1
  LINE_LAST_PIXEL = 8085
  SAMPLE_FIRST_PIXEL = 1
  SAMPLE_LAST_PIXEL = 2718
  MAP_PROJECTION_ROTATION = 0.0
  MAP_RESOLUTION = 6064.67008483
  MAP_SCALE = 4.9999999999999
  MAXIMUM_LATITUDE = 18.8247668
  MINIMUM_LATITUDE = 17.4916357
  EASTERNMOST_LONGITUDE = 23.0040758
  WESTERNMOST_LONGITUDE = 22.5328425
  LINE_PROJECTION_OFFSET = 114165.5
  SAMPLE_PROJECTION_OFFSET = 908245.5
END_OBJECT = IMAGE_MAP_PROJECTION
OBJECT = IMAGE
  DESCRIPTION = "Dorsum Nicol high-resolution NAC digital terrain model in GeoTIFF format. DEM is IEEE floating point GeoTIFF, 32 bits/sample, 1 samples/pixel in single image plane configuration. The NoDATA value is -3.40282266e+038. For more info, see [HENRIKSENETAL2017]."
  INTERCHANGE_FORMAT = BINARY
  LINES = 8085
  LINE_SAMPLES = 2718
  SAMPLE_TYPE = PC_REAL
  SAMPLE_BITS = 32
  BAND_STORAGE_TYPE = SAMPLE_INTERLEAVED
  BANDS = 1
  FILTER_NAME = "N/A"
END_OBJECT = IMAGE
END
