PDS_VERSION_ID = PDS3
RECORD_TYPE = FIXED_LENGTH
RECORD_BYTES = 2626
FILE_RECORDS = 10310
DATA_SET_ID = "LRO-L-LROC-5-RDR-V1.0"
DATA_SET_NAME = "LRO MOON LROC 5 RDR V1.0"
VOLUME_ID = "LROLRC_2001"
PRODUCER_INSTITUTE_NAME = "ARIZONA STATE UNIVERSITY"
PRODUCER_ID = LRO_LROC_TEAM
PRODUCER_FULL_NAME = "MARK ROBINSON, PH.D"
PRODUCT_ID = "NAC_DTM_FRSHCRATR22_SLOPE"
PRODUCT_VERSION_ID = "v1.9"
PRODUCT_TYPE = RDR
INSTRUMENT_HOST_NAME = "LUNAR RECONNAISSANCE ORBITER"
INSTRUMENT_HOST_ID = "LRO"
INSTRUMENT_NAME = "LUNAR RECONNAISSANCE ORBITER CAMERA"
INSTRUMENT_ID = "LROC"
TARGET_NAME = "MOON"
MISSION_PHASE_NAME = "SECOND EXTENDED SCIENCE MISSION"
RATIONALE_DESC = "Created to enable lunar science and exploration activities"
SOFTWARE_NAME = "ISIS 3.8.1, 3.4.11.6414 with SER enhancements | SOCET SET v5.5 (c) BAE Systems | GDAL | ImageMagick"
START_TIME = 2016-03-22T11:10:03
STOP_TIME = 2016-03-22T15:05:01
SPACECRAFT_CLOCK_START_COUNT = "N/A"
SPACECRAFT_CLOCK_STOP_COUNT = "N/A"
PRODUCT_CREATION_TIME = 2021-02-24T06:05:57
^IMAGE = ("NAC_DTM_FRSHCRATR22_SLOPE.TIF", 9 )
OBJECT = IMAGE_MAP_PROJECTION
  ^DATA_SET_MAP_PROJECTION = "DSMAP.CAT"
  MAP_PROJECTION_TYPE = "EQUIRECTANGULAR"
  PROJECTION_LATITUDE_TYPE = PLANETOCENTRIC
  A_AXIS_RADIUS = 1737.4
  B_AXIS_RADIUS = 1737.4
  C_AXIS_RADIUS = 1737.4
  COORDINATE_SYSTEM_NAME = PLANETOCENTRIC
  POSITIVE_LONGITUDE_DIRECTION = EAST
  KEYWORD_LATITUDE_TYPE = PLANETOCENTRIC
  CENTER_LATITUDE = 3.0
  CENTER_LONGITUDE = 180.0
  LINE_FIRST_PIXEL = 1
  LINE_LAST_PIXEL = 10310
  SAMPLE_FIRST_PIXEL = 1
  SAMPLE_LAST_PIXEL = 2626
  MAP_PROJECTION_ROTATION = 0.0
  MAP_RESOLUTION = 6064.67008483
  MAP_SCALE = 4.9999999999999
  MAXIMUM_LATITUDE = 3.8851248
  MINIMUM_LATITUDE = 2.1851147
  EASTERNMOST_LONGITUDE = 327.02052
  WESTERNMOST_LONGITUDE = 326.5869261
  LINE_PROJECTION_OFFSET = 23561.5
  SAMPLE_PROJECTION_OFFSET = -887783.5
END_OBJECT = IMAGE_MAP_PROJECTION
OBJECT = IMAGE
  DESCRIPTION = "160m Crater West of Kunowsky color slope map derived from NAC digital terrain models. Image is 3-channel RGB GeoTIFF, 8 bits/sample, 3 samples/pixel in single image plane configuration. For more info, see [HENRIKSENETAL2017]."
  INTERCHANGE_FORMAT = BINARY
  LINES = 10310
  LINE_SAMPLES = 2626
  SAMPLE_TYPE = MSB_UNSIGNED_INTEGER
  SAMPLE_BITS = 8
  BAND_STORAGE_TYPE = SAMPLE_INTERLEAVED
  BANDS = 3
  FILTER_NAME = "N/A"
END_OBJECT = IMAGE
END
