PDS_VERSION_ID = PDS3
/* The source image data definition. */
RECORD_TYPE = FIXED_LENGTH
RECORD_BYTES = 6620
FILE_RECORDS = 11824
^IMAGE = "NAC_ANAGLYPH_M106082821_M106068472.TIF"
/* Identification Information */
DATA_SET_ID = "LRO-L-LROC-5-RDR-V1.0"
DATA_SET_NAME = "LRO MOON LROC 5 RDR V1.0"
VOLUME_ID = 'LROLRC_2001'
PRODUCER_INSTITUTION_NAME = "ARIZONA STATE UNIVERSITY"
PRODUCER_ID = LRO_LROC_TEAM
PRODUCER_FULL_NAME = "MARK ROBINSON, PH.D"
PRODUCT_ID = "NAC_ANAGLYPH_M106082821_M106068472"
PRODUCT_VERSION_ID = "v1.3"
PRODUCT_TYPE = "RDR"
INSTRUMENT_HOST_NAME = "LUNAR RECONNAISSANCE ORBITER"
INSTRUMENT_HOST_ID = "LRO"
INSTRUMENT_NAME = "LUNAR RECONNAISSANCE ORBITER CAMERA"
INSTRUMENT_ID = "LROC"
TARGET_NAME = MOON
MISSION_PHASE_NAME = "NOMINAL MISSION, SCIENCE MISSION, EXTENDED SCIENCE MISSION, EXTENDED SCIENCE MISSION 2"
RATIONALE_DESC = "Created at the request of NASA's Exploration Systems Mission Directorate to support future human exploration"
SOFTWARE_NAME = "ISIS 3.4.4 with SER enhancements"
/* Time Parameters */
START_TIME = "N/A"
STOP_TIME = "N/A"
SPACECRAFT_CLOCK_START_COUNT = "N/A"
SPACECRAFT_CLOCK_STOP_COUNT = "N/A"
PRODUCT_CREATION_TIME = 2014-12-26T03:41:30
/* NOTE: */
/* This raster image is composed of a set of pixels that represent finite */
/* areas, and not discrete points. The center of the upper left pixel is */
/* defined as line and sample (1.0,1.0). The */
/* [LINE,SAMPLE]_PROJECTION_OFFSET elements are the pixel offset from line */
/* and sample (1.0,1.0) to the map projection origin (defined by the */
/* CENTER_LATITUDE and CENTER_LONGITUDE elements). These offset values */
/* are positive when the map projection origin is to the right or below */
/* the center of the upper left pixel. This definition was adopted in */
/* November 2011 by the LROC team. */
OBJECT = IMAGE_MAP_PROJECTION
  ^DATA_SET_MAP_PROJECTION = "DSMAP.CAT"
  MAP_PROJECTION_TYPE = "POLAR STEREOGRAPHIC"
  PROJECTION_LATITUDE_TYPE = PLANETOCENTRIC
  A_AXIS_RADIUS = 1734.754
  B_AXIS_RADIUS = 1734.754
  C_AXIS_RADIUS = 1734.754
  COORDINATE_SYSTEM_NAME = PLANETOCENTRIC
  POSITIVE_LONGITUDE_DIRECTION = EAST
  KEYWORD_LATITUDE_TYPE = PLANETOCENTRIC
  /* NOTE: CENTER_LATITUDE and CENTER_LONGITUDE describe the location */
  /* of the center of projection, which is not necessarily equal to the */
  /* location of the center point of the image. */
  CENTER_LATITUDE = -74.5016104281867
  CENTER_LONGITUDE = 122.91892590696
  LINE_FIRST_PIXEL = 1
  LINE_LAST_PIXEL = 11823
  SAMPLE_FIRST_PIXEL = 1
  SAMPLE_LAST_PIXEL = 1655
  MAP_PROJECTION_ROTATION = 0.0
  MAP_RESOLUTION = 6055.4338024283
  MAP_SCALE = 5.0
  MAXIMUM_LATITUDE = -73.537136653166
  MINIMUM_LATITUDE = -75.487730968667
  EASTERNMOST_LONGITUDE = 123.81778338557
  WESTERNMOST_LONGITUDE = 122.85605758833
  LINE_PROJECTION_OFFSET = 98556.5
  SAMPLE_PROJECTION_OFFSET = 108.5
END_OBJECT = IMAGE_MAP_PROJECTION
OBJECT = IMAGE
  DESCRIPTION = "Narrow Angle Camera anaglyph derived from NAC geo-stereo observations. TIFF is a 3-channel RGB TIFF, 8 bits/sample, 3 samples/pixel in single image plane configuration, where the red band is in the red channel, and the blue band is in the blue and green channels"
  LINES = 11823
  LINE_SAMPLES = 1655
  SAMPLE_TYPE = PC_REAL
  SAMPLE_BITS = 32
  SAMPLE_BIT_MASK = 2#11111111111111111111111111111111#
  CORE_NULL = 16#FF7FFFFB#
  CORE_LOW_REPR_SATURATION = 16#FF7FFFFC#
  CORE_LOW_INSTR_SATURATION = 16#FF7FFFFD#
  CORE_HIGH_REPR_SATURATION = 16#FF7FFFFF#
  CORE_HIGH_INSTR_SATURATION = 16#FF7FFFFE#
  BAND_STORAGE_TYPE = BAND_SEQUENTIAL
  BANDS = 2
  CENTER_FILTER_WAVELENGTH = (600 , 600 )
  BANDWIDTH = (300 , 300 )
END_OBJECT = IMAGE
END
